BEGIN:VCALENDAR
VERSION:2.0
PRODID:-//Merrion Cricket Club - ECPv6.15.20//NONSGML v1.0//EN
CALSCALE:GREGORIAN
METHOD:PUBLISH
X-WR-CALNAME:Merrion Cricket Club
X-ORIGINAL-URL:https://www.merrioncricketclub.ie
X-WR-CALDESC:Events for Merrion Cricket Club
REFRESH-INTERVAL;VALUE=DURATION:PT1H
X-Robots-Tag:noindex
X-PUBLISHED-TTL:PT1H
BEGIN:VTIMEZONE
TZID:UTC
BEGIN:STANDARD
TZOFFSETFROM:+0000
TZOFFSETTO:+0000
TZNAME:UTC
DTSTART:20220101T000000
END:STANDARD
END:VTIMEZONE
BEGIN:VEVENT
DTSTART;TZID=UTC:20230913T080000
DTEND;TZID=UTC:20230913T170000
DTSTAMP:20260419T174710
CREATED:20230913T140726Z
LAST-MODIFIED:20260206T113113Z
UID:16595-1694592000-1694624400@www.merrioncricketclub.ie
SUMMARY:Autumn General Meeting (26th Oct)
DESCRIPTION:The Autumn General Meeting will be held in the pavilion at Anglesea Road on Thursday 26th October at 19.30
URL:https://www.merrioncricketclub.ie/club-events/autumn-general-meeting-26th-oct/
CATEGORIES:Cricket
END:VEVENT
END:VCALENDAR